Workbook

Sheet 名簿管理
A1: 道徳科 評価業務支援シート（光村図書 ３年）
A2: 名簿管理
A3: まず、学級の名簿を↓ここに入力しましょう。（コピペOK）
A4: 出席番号 | B4: 氏名
A5: 1 | B5: あい うえお
A6: 2 | B6: かき くけこ
A7: 3 | B7: さしす せそ
A8: 4
A9: 5
A10: 6
A11: 7
A12: 8
A13: 9
A14: 10
A15: 11
A16: 12
A17: 13
A18: 14
A19: 15
... A49: 45

Sheet 目ざす姿
A1: 道徳科 評価業務支援シート（光村図書 ３年）
A2: 道徳科で目ざす姿（成長した姿） | E2: ここを修正すると、「授業づくり」シートと、「期末評価」シートにも自動的に反映されます。 学年研修で検討をしたり、道徳推進担当や教務主任で検討したりして設定します。 目ざす姿は、各学校の児童の実態に応じて、適宜変更をしてください。 空いている部分は、オリジナルで追加できるようにしています。
A3: 評価の視点 | C3: 目ざす姿 通知表所見文例（前半） | D3: 文字数 | E3: 指導要録 所見文例 | F3: 文字数
A4: 道徳的価値の理解を自分自身との関わりの中で深めているか | B4: １自分事 | C4: 教材の登場人物の心の葛藤に共感し、自分事として捉えながら考えていました。 | D4: =LEN(C4) -> 36 | E4: どの教材においても常に自分の立場に置き換えて主体的に考えていた。登場人物の心の葛藤に共感し、自分事として捉えながら、考えを深めることができた。 | F4: =LEN(E4) -> 71
B5: ２自分なり | C5: 友達と交流をしながら、自分なりの思いや考えをもつことができました。 | D5: =LEN(C5) -> 33 | E5: 友達との交流を通して、自分の思いや考えをもつことができた。また、学習の振り返りを通して、自分が何を大切にして生きていきたいかについて考えることができた。 | F5: =LEN(E5) -> 76
B6: ３自分だったら | C6: 教材の登場人物の思いや行動に対して、「自分だったら」と経験と重ねながら考えていました。 | D6: =LEN(C6) -> 43 | E6: 教材の出来事を自分事として捉え、教材の登場人物の思いや行動に対して、「自分だったらどうするだろう」と自分の経験もとに考えを深めていた。 | F6: =LEN(E6) -> 67
B7: ４よりよい生き方 | C7: 教材の登場人物に共感しながら、自分事として捉え、よりよい生き方について考えていました。 | D7: =LEN(C7) -> 43 | E7: 教材の登場人物の心情に共感しながら、学習していた。「もし自分なら」と自分事として捉え、よりよい生き方について考えを深めていた。 | F7: =LEN(E7) -> 63
B8: ５経験を振り返り | C8: 自分の経験を素直に振り返りながら、よりよく生きることについて考える姿が見られました。 | D8: =LEN(C8) -> 42 | E8: 教材の問題場面において、自分の経験を素直に振り返りながら、具体的に考え、よりよく生きることについて考えを深める姿が見られた。 | F8: =LEN(E8) -> 62
B9: ６自分の弱さ | C9: 自分の弱さを率直に見つめながら、よりよく生きていくことについて考えていました。 | D9: =LEN(C9) -> 39 | E9: 教材の登場人物の葛藤などについて自分と重ねて考えていた。特に、自分の弱さを率直に見つめながら、よりよく生きていくことについて考えを深めていた。 | F9: =LEN(E9) -> 71
B10: 7〇〇
A11: 一面的な見方から多面的・多角的な見方へと発展させているか | B11: ８友達と議論 | C11: 具体的な生活場面を思い浮かべながら友達と議論する中で、学習のテーマについて考えていました。 | D11: =LEN(C11) -> 45 | E11: 具体的な生活場面を思い浮かべながら、学習のテーマについて積極的に友達と多面的・多角的に考え、議論する中で、自己の生き方について考えを深めていた。 | F11: =LEN(E11) -> 72
B12: ９いろいろな見方 | C12: さまざまな見方や考え方があることを、具体的な生活場面をイメージしながら考えていました。 | D12: =LEN(C12) -> 43 | E12: どの教材においても常に自分事として、主体的に考えていた。さまざまな見方や考え方があることを具体的な生活場面をイメージしながら考えを深める姿が見られた。 | F12: =LEN(E12) -> 75
B13: 10グループ交流 | C13: グループ交流などを通して自分とは違う考え方に触れながら、学習テーマについて考えていました。 | D13: =LEN(C13) -> 45 | E13: グループ交流などを通して、自分とは違う考え方に触れながら、多面的・多角的に議論し、学習のテーマについて自分なりの考えを深める姿が見られた。 | F13: =LEN(E13) -> 69
B14: 11考えを比べ | C14: 全体で議論する中で、友達の意見と自分の意見を比べながら多面的・多角的に考えていました。 | D14: =LEN(C14) -> 43 | E14: 友達と積極的に議論し、自分の意見と比べながら友達の意見に耳を傾け、何を大切にして生きていきたいのかについて多面的・多角的に自己の考えを深める様子が見られた。 | F14: =LEN(E14) -> 78
B15: 12多様な意見を参考に | C15: 友達の意見に耳を傾けて多様な意見を参考にしながら、自分ならどうするかと考えていました。 | D15: =LEN(C15) -> 43 | E15: グループ交流や全体交流を通して、友達の意見に耳を傾けて多様な意見を参考にしながら、自分ならどうするか、何を大切にして生きていこうかと考える様子が見られた。 | F15: =LEN(E15) -> 77
B16: 13多様な考えを尊重 | C16: 友達との対話を通して多様な考え方に触れ、それぞれの意見を尊重して生かしながら、自分が大切にしたいことを考えていました。 | D16: =LEN(C16) -> 59 | E16: 友達との対話を通して、自分とは異なる意見にも耳を傾けていた。多様な考え方に触れ、それぞれを尊重して生かしながら多面的・多角的に考え、自分が大切にしたいことについて深める姿が見られた。 | F16: =LEN(E16) -> 91
B17: 14〇〇 | D17: =LEN(C17) -> 0 | F17: =LEN(E17) -> 0

Sheet 授業づくり
A1: 道徳科 評価業務支援シート（光村図書 ３年）
A2: 授業づくりシート
A3: 教材 | B3: 本時の学習の主な内容 何を学ぶか 本時に考えることを明確にしましょう。 ※必要に応じて修正（文末は：～について） ※一人一人の実態に応じ、主なものとして2つ設定できます。 | D3: 本時で目ざす児童の学びの姿 どのように学ぶか 本時に目ざす児童の学びの姿を明確にしましょう。（選択式） | G3: 手立て 本時に目ざす児童の学びの姿を どのように引き出すか、手立てを検討しましょう。
A4: 1 | B4: 道徳科で何を学ぶのか、どのように学ぶのかについて | C4: みんなで話し合うことで考えが広がったり深まったりすることのよさについて | D4: 自分自身との関わり | E4: ２自分なり | F4: =IFERROR(VLOOKUP(E4,目ざす姿!$B$4:$C$17,2,FALSE),"") -> 友達と交流をしながら、自分なりの思いや考えをもつことができました。
A5: どうとくが始まるよ | D5: 多面的・多角的な見方へ | E5: 12多様な意見を参考に | F5: =IFERROR(VLOOKUP(E5,目ざす姿!$B$4:$C$17,2,FALSE),"") -> 友達の意見に耳を傾けて多様な意見を参考にしながら、自分ならどうするかと考えていました。
A6: 2 | B6: 相手の立場や気持ちに応じて真心を込めて挨拶することについて | C6: 真心のこもった挨拶とはどんな挨拶かについて | D6: 自分自身との関わり | E6: １自分事 | F6: =VLOOKUP(E6,目ざす姿!$B$4:$C$17,2,FALSE) -> 教材の登場人物の心の葛藤に共感し、自分事として捉えながら考えていました。
A7: あいさつ名人 | D7: 多面的・多角的な見方へ | E7: ９いろいろな見方 | F7: =VLOOKUP(E7,目ざす姿!$B$4:$C$17,2,FALSE) -> さまざまな見方や考え方があることを、具体的な生活場面をイメージしながら考えていました。
A8: 3 | B8: よりよいクラスにするためにできることについて | C8: みんなで協力し合って楽しい学級をつくろうとすることについて | D8: 自分自身との関わり | E8: ４よりよい生き方 | F8: =VLOOKUP(E8,目ざす姿!$B$4:$C$17,2,FALSE) -> 教材の登場人物に共感しながら、自分事として捉え、よりよい生き方について考えていました。
A9: きらきらカード | D9: 多面的・多角的な見方へ | E9: 13多様な考えを尊重 | F9: =VLOOKUP(E9,目ざす姿!$B$4:$C$17,2,FALSE) -> 友達との対話を通して多様な考え方に触れ、それぞれの意見を尊重して生かしながら、自分が大切にしたいことを考えていました。
A10: 4 | B10: 自分と違う意見が出たときに心がけることについて | C10: 自分の意見を相手に伝え、相手を理解し異なる意見も大切にしようとすることについて | D10: 自分自身との関わり | E10: ６自分の弱さ | F10: =IFERROR(VLOOKUP(E10,目ざす姿!$B$4:$C$17,2,FALSE),"") -> 自分の弱さを率直に見つめながら、よりよく生きていくことについて考えていました。
A11: 日曜日の公園で | D11: 多面的・多角的な見方へ | E11: 10グループ交流 | F11: =IFERROR(VLOOKUP(E11,目ざす姿!$B$4:$C$17,2,FALSE),"") -> グループ交流などを通して自分とは違う考え方に触れながら、学習テーマについて考えていました。
A12: 5 | B12: 誰に対しても分け隔てなく接するにはどんな気持ちが必要かについて | C12: 誰に対しても公正、公平な態度で接しようとすることのよさについて | D12: 自分自身との関わり | F12: =IFERROR(VLOOKUP(E12,目ざす姿!$B$4:$C$17,2,FALSE),"")
A13: 道夫とぼく | D13: 多面的・多角的な見方へ | F13: =IFERROR(VLOOKUP(E13,目ざす姿!$B$4:$C$17,2,FALSE),"")
A14: 6 | B14: 心から謝ることのよさについて | C14: 過ちを犯したときにはごまかさずに素直に反省し、正直に明るい心で過ごそうとすることのよさについて | D14: 自分自身との関わり | F14: =IFERROR(VLOOKUP(E14,目ざす姿!$B$4:$C$17,2,FALSE),"")
A15: よごれた絵 | D15: 多面的・多角的な見方へ | F15: =IFERROR(VLOOKUP(E15,目ざす姿!$B$4:$C$17,2,FALSE),"")
A16: 7 | B16: 友達とはどんな人かについて | C16: 友達と互いに理解し合い、信頼し合い、助け合おうとすることのよさについて | D16: 自分自身との関わり | F16: =IFERROR(VLOOKUP(E16,目ざす姿!$B$4:$C$17,2,FALSE),"")
A17: 友だち屋 | D17: 多面的・多角的な見方へ | F17: =IFERROR(VLOOKUP(E17,目ざす姿!$B$4:$C$17,2,FALSE),"")
A18: 8 | B18: 優しい人とはどんな人なのかについて | C18: 相手の状況や気持ちを思いやり、よく考えて判断し、進んで親切にしようとすることのよさについて | D18: 自分自身との関わり | F18: =IFERROR(VLOOKUP(E18,目ざす姿!$B$4:$C$17,2,FALSE),"")
A19: 教えてあげる？ 持ってあげる？ | D19: 多面的・多角的な見方へ | F19: =IFERROR(VLOOKUP(E19,目ざす姿!$B$4:$C$17,2,FALSE),"")
A20: 9 | B20: 気持ちのよい生活をするにはどんなことが大切かについて | C20: 自分でよく考えて判断し、節度ある生活をしようとすることのよさについて | D20: 自分自身との関わり | F20: =IFERROR(VLOOKUP(E20,目ざす姿!$B$4:$C$17,2,FALSE),"")
A21: やめられない | D21: 多面的・多角的な見方へ | F21: =IFERROR(VLOOKUP(E21,目ざす姿!$B$4:$C$17,2,FALSE),"")
A22: 10 | B22: みんなと力を合わせて働くことのよさや大切さについて | C22: 進んでみんなのために働こうとすることのよさについて | D22: 自分自身との関わり | F22: =IFERROR(VLOOKUP(E22,目ざす姿!$B$4:$C$17,2,FALSE),"")
A23: マリーゴールド | D23: 多面的・多角的な見方へ | F23: =IFERROR(VLOOKUP(E23,目ざす姿!$B$4:$C$17,2,FALSE),"")
A24: 11 | B24: 生きている仲間とはどんな仲間なのかについて | C24: 自分と同様に生命あるもの全てを尊いものとして大切にしようすることについて | D24: 自分自身との関わり | F24: =IFERROR(VLOOKUP(E24,目ざす姿!$B$4:$C$17,2,FALSE),"")
A25: 生きている仲間 | D25: 多面的・多角的な見方へ | F25: =IFERROR(VLOOKUP(E25,目ざす姿!$B$4:$C$17,2,FALSE),"")
A26: 12 | B26: 身近な自然の素晴らしさや不思議さについて | C26: 自然や動植物を大切にしようとすることのよさについて | D26: 自分自身との関わり | F26: =IFERROR(VLOOKUP(E26,目ざす姿!$B$4:$C$17,2,FALSE),"")
A27: ヤゴきゅう出大作戦 | D27: 多面的・多角的な見方へ | F27: =IFERROR(VLOOKUP(E27,目ざす姿!$B$4:$C$17,2,FALSE),"")
A28: 13 | B28: 友達と助け合うとどんな気持ちになるかについて | C28: 友達と互いに理解し合い、信頼し合い、助け合おうとすることのよさについて | D28: 自分自身との関わり | F28: =IFERROR(VLOOKUP(E28,目ざす姿!$B$4:$C$17,2,FALSE),"")
A29: 目の前は青空 | D29: 多面的・多角的な見方へ | F29: =IFERROR(VLOOKUP(E29,目ざす姿!$B$4:$C$17,2,FALSE),"")
A30: 14 | B30: 相手を理解するために大切なことについて | C30: 異なる意見も大切にしようとすることのよさについて | D30: 自分自身との関わり | F30: =IFERROR(VLOOKUP(E30,目ざす姿!$B$4:$C$17,2,FALSE),"")
A31: たてわりはんそうじ | D31: 多面的・多角的な見方へ | F31: =IFERROR(VLOOKUP(E31,目ざす姿!$B$4:$C$17,2,FALSE),"")
A32: 15 | B32: 生命を大切にするとはどういうことかについて | C32: 生命の尊さを知り、自他の生命を大切にしようとすることのよさについて | D32: 自分自身との関わり | F32: =IFERROR(VLOOKUP(E32,目ざす姿!$B$4:$C$17,2,FALSE),"")
A33: 大切なものは何ですか | D33: 多面的・多角的な見方へ | F33: =IFERROR(VLOOKUP(E33,目ざす姿!$B$4:$C$17,2,FALSE),"")
A34: 16 | B34: 度を越さずに行動するために大切なことについて | C34: よく考えて節度のある生活を送ろうとすることのよさについて | D34: 自分自身との関わり | F34: =IFERROR(VLOOKUP(E34,目ざす姿!$B$4:$C$17,2,FALSE),"")
A35: 黄金の魚 | D35: 多面的・多角的な見方へ | F35: =IFERROR(VLOOKUP(E35,目ざす姿!$B$4:$C$17,2,FALSE),"")
A36: 17 | B36: 働くときにはどんな思いが大切かについて | C36: 進んでみんなのために働こうとすることのよさについて | D36: 自分自身との関わり | F36: =IFERROR(VLOOKUP(E36,目ざす姿!$B$4:$C$17,2,FALSE),"")
A37: 三人の仕事 | D37: 多面的・多角的な見方へ | F37: =IFERROR(VLOOKUP(E37,目ざす姿!$B$4:$C$17,2,FALSE),"")
A38: 18 | B38: きまりは何のためにあるのかについて | C38: 約束や社会のきまりの意義を理解し、それらを守ろうとすることのよさについて | D38: 自分自身との関わり | F38: =IFERROR(VLOOKUP(E38,目ざす姿!$B$4:$C$17,2,FALSE),"")
A39: きまりのない国 | D39: 多面的・多角的な見方へ | F39: =IFERROR(VLOOKUP(E39,目ざす姿!$B$4:$C$17,2,FALSE),"")
A40: 19 | B40: 自分のよさを見つけ、伸ばすためには、どんな気持ちが大切かについて | C40: 自分の特徴に気づき、長所を伸ばそうとすることのよさについて | D40: 自分自身との関わり | F40: =IFERROR(VLOOKUP(E40,目ざす姿!$B$4:$C$17,2,FALSE),"")
A41: 三年元気組 | D41: 多面的・多角的な見方へ | F41: =IFERROR(VLOOKUP(E41,目ざす姿!$B$4:$C$17,2,FALSE),"")
A42: 20 | B42: 正しいと思うことを行うために大切なことについて | C42: 正しいと判断したことは、自信をもって行おうとすることのよさについて | D42: 自分自身との関わり | F42: =IFERROR(VLOOKUP(E42,目ざす姿!$B$4:$C$17,2,FALSE),"")
A43: 言わなきゃ | D43: 多面的・多角的な見方へ | F43: =IFERROR(VLOOKUP(E43,目ざす姿!$B$4:$C$17,2,FALSE),"")
A44: 21 | B44: 公平に接することが大切なわけについて | C44: 誰にでも分け隔てせず、公正、公平に接しようとすることのよさについて | D44: 自分自身との関わり | F44: =IFERROR(VLOOKUP(E44,目ざす姿!$B$4:$C$17,2,FALSE),"")
A45: なおとからのしつもん | D45: 多面的・多角的な見方へ | F45: =IFERROR(VLOOKUP(E45,目ざす姿!$B$4:$C$17,2,FALSE),"")
A46: 22 | B46: 正直でいることのよさについて | C46: 過ちを偽ったりごまかしたりせずに素直に改め、明るい心で生活しようとすることのよさについて | D46: 自分自身との関わり | F46: =IFERROR(VLOOKUP(E46,目ざす姿!$B$4:$C$17,2,FALSE),"")
A47: モンたんとケロきち | D47: 多面的・多角的な見方へ | F47: =IFERROR(VLOOKUP(E47,目ざす姿!$B$4:$C$17,2,FALSE),"")
A48: 23 | B48: 生活を支えてくれる人にどんな気持ちで接するのがよいかについて | C48: 尊敬と感謝の心で接しようとすることのよさについて | D48: 自分自身との関わり | F48: =IFERROR(VLOOKUP(E48,目ざす姿!$B$4:$C$17,2,FALSE),"")
A49: とくジーのおまじない | D49: 多面的・多角的な見方へ | F49: =IFERROR(VLOOKUP(E49,目ざす姿!$B$4:$C$17,2,FALSE),"")
A50: 24 | B50: 日本に昔から伝わるものに興味や関心をもつことについて | C50: 日本古来の文化に親しもうとすることのよさについて | D50: 自分自身との関わり | F50: =IFERROR(VLOOKUP(E50,目ざす姿!$B$4:$C$17,2,FALSE),"")
A51: ふろしき | D51: 多面的・多角的な見方へ | F51: =IFERROR(VLOOKUP(E51,目ざす姿!$B$4:$C$17,2,FALSE),"")
A52: 25 | B52: 生活の中で「美しいな」「きれいだな」と感じるものについて | C52: 自然の美しさや人の心の気高さを感じる心を大切にしようとすることについて | D52: 自分自身との関わり | F52: =IFERROR(VLOOKUP(E52,目ざす姿!$B$4:$C$17,2,FALSE),"")
A53: まわりを見つめて | D53: 多面的・多角的な見方へ | F53: =IFERROR(VLOOKUP(E53,目ざす姿!$B$4:$C$17,2,FALSE),"")
A54: 26 | B54: 他国の人と仲よくなるために大切なことについて | C54: 他国のものに親しみ、関心をもとうとすることのよさについて | D54: 自分自身との関わり | F54: =IFERROR(VLOOKUP(E54,目ざす姿!$B$4:$C$17,2,FALSE),"")
A55: マサラップ | D55: 多面的・多角的な見方へ | F55: =IFERROR(VLOOKUP(E55,目ざす姿!$B$4:$C$17,2,FALSE),"")
A56: 27 | B56: 親切にするとどんないいことがあるのかについて | C56: 相手の気持ちを自分のこととして想像して、相手を思いやり、進んで親切にしようとすることのよさについて | D56: 自分自身との関わり | F56: =IFERROR(VLOOKUP(E56,目ざす姿!$B$4:$C$17,2,FALSE),"")
A57: 親切がいっぱい | D57: 多面的・多角的な見方へ | F57: =IFERROR(VLOOKUP(E57,目ざす姿!$B$4:$C$17,2,FALSE),"")
A58: 28 | B58: 自分らしさを伸ばすためにどんなことができるかについて | C58: 自分の特徴に気づき、長所を伸ばそうとすることのよさについて | D58: 自分自身との関わり | F58: =IFERROR(VLOOKUP(E58,目ざす姿!$B$4:$C$17,2,FALSE),"")
A59: 「わたしらしさ」をのばすために | D59: 多面的・多角的な見方へ | F59: =IFERROR(VLOOKUP(E59,目ざす姿!$B$4:$C$17,2,FALSE),"")
A60: 29 | B60: よりよい学校にするために、一人一人ができることについて | C60: 楽しい学校をつくろうとすることのよさについて | D60: 自分自身との関わり | F60: =IFERROR(VLOOKUP(E60,目ざす姿!$B$4:$C$17,2,FALSE),"")
A61: 学校のぶどう | D61: 多面的・多角的な見方へ | F61: =IFERROR(VLOOKUP(E61,目ざす姿!$B$4:$C$17,2,FALSE),"")
A62: 30 | B62: きまりを守らなければならないわけについて | C62: きまりの意義やよさを理解し、守ろうとすることのよさについて | D62: 自分自身との関わり | F62: =IFERROR(VLOOKUP(E62,目ざす姿!$B$4:$C$17,2,FALSE),"")
A63: ボールのきまり | D63: 多面的・多角的な見方へ | F63: =IFERROR(VLOOKUP(E63,目ざす姿!$B$4:$C$17,2,FALSE),"")
A64: 31 | B64: よいと思ったことを行うときに大切な心について | C64: 正しいと判断したことは自信をもって行い、正しくないことは止めようとすることのよさについて | D64: 自分自身との関わり | F64: =IFERROR(VLOOKUP(E64,目ざす姿!$B$4:$C$17,2,FALSE),"")
A65: よわむし太郎 | D65: 多面的・多角的な見方へ | F65: =IFERROR(VLOOKUP(E65,目ざす姿!$B$4:$C$17,2,FALSE),"")
A66: 32 | B66: 自分の家族に伝えたい思いについて | C66: 父母、祖父母を敬愛し、家族で協力して楽しい家庭にしようとすることのよさについて | D66: 自分自身との関わり | F66: =IFERROR(VLOOKUP(E66,目ざす姿!$B$4:$C$17,2,FALSE),"")
A67: 漢字に思いをこめて | D67: 多面的・多角的な見方へ | F67: =IFERROR(VLOOKUP(E67,目ざす姿!$B$4:$C$17,2,FALSE),"")
A68: 33 | B68: 生活を支えてくれている人に、どのような思いを伝えたいかについて | C68: 尊敬と感謝の気持ちを表そうとすることのよさについて | D68: 自分自身との関わり | F68: =IFERROR(VLOOKUP(E68,目ざす姿!$B$4:$C$17,2,FALSE),"")
A69: ありがとうの気持ちをこめて | D69: 多面的・多角的な見方へ | F69: =IFERROR(VLOOKUP(E69,目ざす姿!$B$4:$C$17,2,FALSE),"")
A70: 34 | B70: 命にはどんな不思議があるのか | C70: 受け継がれる命の尊さを知り、大切にしようとすることについて | D70: 自分自身との関わり | F70: =IFERROR(VLOOKUP(E70,目ざす姿!$B$4:$C$17,2,FALSE),"")
A71: ヌチヌグスージ――命の祭り | D71: 多面的・多角的な見方へ | F71: =IFERROR(VLOOKUP(E71,目ざす姿!$B$4:$C$17,2,FALSE),"")
A72: 35 | B72: 夢をかなえるためには、どんな気持ちが大切かについて | C72: 目標に向かって、強い意志をもち、粘り強くやり抜こうとすることのよさについて | D72: 自分自身との関わり | F72: =IFERROR(VLOOKUP(E72,目ざす姿!$B$4:$C$17,2,FALSE),"")
A73: スーパーパティシエ物語 | D73: 多面的・多角的な見方へ | F73: =IFERROR(VLOOKUP(E73,目ざす姿!$B$4:$C$17,2,FALSE),"")

Sheet 日常評価A
A1: 道徳科 評価業務支援シート（光村図書 ３年）
A2: 日常評価A 「授業づくり」シートで設定した、「本時で目ざす学びの姿」がとてもよく見られた児童に◎をつける。
D3: 1 | E3: 2 | F3: 3 | G3: 4 | H3: 5 | I3: 6 | J3: 7 | K3: 8 | L3: 9 | M3: 10 | N3: 11 | O3: 12 | P3: 13 | Q3: 14 | R3: 15 | S3: 16 | T3: 17 | U3: 18 | V3: 19 | W3: 20 | X3: 21 | Y3: 22 | Z3: 23 | AA3: 24 | AB3: 25 | AC3: 26 | AD3: 27 | AE3: 28 | AF3: 29 | AG3: 30 | AH3: 31 | AI3: 32 | AJ3: 33 | AK3: 34 | AL3: 35 | AM3: 36 | AN3: 37 | AO3: 38 | AP3: 39 | AQ3: 40 | AR3: 41 | AS3: 42 | AT3: 43 | AU3: 44 | AV3: 45
A4: 教材 | B4: 評価の視点 | D4: =名簿管理!B5 -> あい うえお | E4: =名簿管理!B6 -> かき くけこ | F4: =名簿管理!B7 -> さしす せそ | G4: =名簿管理!B8 -> 0 | H4: =名簿管理!B9 -> 0 | I4: =名簿管理!B10 -> 0 | J4: =名簿管理!B11 -> 0 | K4: =名簿管理!B12 -> 0 | L4: =名簿管理!B13 -> 0 | M4: =名簿管理!B14 -> 0 | N4: =名簿管理!B15 -> 0 | O4: =名簿管理!B16 -> 0 | P4: =名簿管理!B17 -> 0 | Q4: =名簿管理!B18 -> 0 | R4: =名簿管理!B19 -> 0 | S4: =名簿管理!B20 -> 0 | T4: =名簿管理!B21 -> 0 | U4: =名簿管理!B22 -> 0 | V4: =名簿管理!B23 -> 0 | W4: =名簿管理!B24 -> 0 | X4: =名簿管理!B25 -> 0 | Y4: =名簿管理!B26 -> 0 | Z4: =名簿管理!B27 -> 0 | AA4: =名簿管理!B28 -> 0 | AB4: =名簿管理!B29 -> 0 | AC4: =名簿管理!B30 -> 0 | AD4: =名簿管理!B31 -> 0 | AE4: =名簿管理!B32 -> 0 | AF4: =名簿管理!B33 -> 0 | AG4: =名簿管理!B34 -> 0 | AH4: =名簿管理!B35 -> 0 | AI4: =名簿管理!B36 -> 0 | AJ4: =名簿管理!B37 -> 0 | AK4: =名簿管理!B38 -> 0 | AL4: =名簿管理!B39 -> 0 | AM4: =名簿管理!B40 -> 0 | AN4: =名簿管理!B41 -> 0 | AO4: =名簿管理!B42 -> 0 | AP4: =名簿管理!B43 -> 0 | AQ4: =名簿管理!B44 -> 0 | AR4: =名簿管理!B45 -> 0 | AS4: =名簿管理!B46 -> 0 | AT4: =名簿管理!B47 -> 0 | AU4: =名簿管理!B48 -> 0 | AV4: =名簿管理!B49 -> 0
A5: =顕著な教材リスト!A4 -> 1どうとくが始まるよ | B5: 自分自身との関わり | C5: =授業づくり!E4 -> ２自分なり | D5: ◎
B6: 多面的・多角的な見方へ | C6: =授業づくり!E5 -> 12多様な意見を参考に | E6: ◎ | F6: ◎
A7: =顕著な教材リスト!A5 -> 2あいさつ名人 | B7: 自分自身との関わり | C7: =授業づくり!E6 -> １自分事 | E7: ◎
B8: 多面的・多角的な見方へ | C8: =授業づくり!E7 -> ９いろいろな見方
A9: =顕著な教材リスト!A6 -> 3きらきらカード | B9: 自分自身との関わり | C9: =授業づくり!E8 -> ４よりよい生き方
B10: 多面的・多角的な見方へ | C10: =授業づくり!E9 -> 13多様な考えを尊重
A11: =顕著な教材リスト!A7 -> 4日曜日の公園で | B11: 自分自身との関わり | C11: =授業づくり!E10 -> ６自分の弱さ
B12: 多面的・多角的な見方へ | C12: =授業づくり!E11 -> 10グループ交流
A13: =顕著な教材リスト!A8 -> 5道夫とぼく | B13: 自分自身との関わり | C13: =授業づくり!E12 -> 0
B14: 多面的・多角的な見方へ | C14: =授業づくり!E13 -> 0
A15: =顕著な教材リスト!A9 -> 0 | B15: 自分自身との関わり | C15: =授業づくり!E14 -> 0
B16: 多面的・多角的な見方へ | C16: =授業づくり!E15 -> 0
A17: =顕著な教材リスト!A10 -> 0 | B17: 自分自身との関わり | C17: =授業づくり!E16 -> 0
B18: 多面的・多角的な見方へ | C18: =授業づくり!E17 -> 0
A19: =顕著な教材リスト!A11 -> 0 | B19: 自分自身との関わり | C19: =授業づくり!E18 -> 0
B20: 多面的・多角的な見方へ | C20: =授業づくり!E19 -> 0
A21: =顕著な教材リスト!A12 -> 0 | B21: 自分自身との関わり | C21: =授業づくり!E20 -> 0
B22: 多面的・多角的な見方へ | C22: =授業づくり!E21 -> 0
A23: =顕著な教材リスト!A13 -> 0 | B23: 自分自身との関わり | C23: =授業づくり!E22 -> 0
B24: 多面的・多角的な見方へ | C24: =授業づくり!E23 -> 0
A25: =顕著な教材リスト!A14 -> 0 | B25: 自分自身との関わり | C25: =授業づくり!E24 -> 0
B26: 多面的・多角的な見方へ | C26: =授業づくり!E25 -> 0
A27: =顕著な教材リスト!A15 -> 0 | B27: 自分自身との関わり | C27: =授業づくり!E26 -> 0
B28: 多面的・多角的な見方へ | C28: =授業づくり!E27 -> 0
A29: =顕著な教材リスト!A16 -> 0 | B29: 自分自身との関わり | C29: =授業づくり!E28 -> 0
B30: 多面的・多角的な見方へ | C30: =授業づくり!E29 -> 0
A31: =顕著な教材リスト!A17 -> 0 | B31: 自分自身との関わり | C31: =授業づくり!E30 -> 0
B32: 多面的・多角的な見方へ | C32: =授業づくり!E31 -> 0
A33: =顕著な教材リスト!A18 -> 0 | B33: 自分自身との関わり | C33: =授業づくり!E32 -> 0
B34: 多面的・多角的な見方へ | C34: =授業づくり!E33 -> 0
A35: =顕著な教材リスト!A19 -> 0 | B35: 自分自身との関わり | C35: =授業づくり!E34 -> 0
B36: 多面的・多角的な見方へ | C36: =授業づくり!E35 -> 0
A37: =顕著な教材リスト!A20 -> 0 | B37: 自分自身との関わり | C37: =授業づくり!E36 -> 0
B38: 多面的・多角的な見方へ | C38: =授業づくり!E37 -> 0
A39: =顕著な教材リスト!A21 -> 0 | B39: 自分自身との関わり | C39: =授業づくり!E38 -> 0
B40: 多面的・多角的な見方へ | C40: =授業づくり!E39 -> 0
A41: =顕著な教材リスト!A22 -> 0 | B41: 自分自身との関わり | C41: =授業づくり!E40 -> 0
B42: 多面的・多角的な見方へ | C42: =授業づくり!E41 -> 0
A43: =顕著な教材リスト!A23 -> 0 | B43: 自分自身との関わり | C43: =授業づくり!E42 -> 0
B44: 多面的・多角的な見方へ | C44: =授業づくり!E43 -> 0
A45: =顕著な教材リスト!A24 -> 0 | B45: 自分自身との関わり | C45: =授業づくり!E44 -> 0
B46: 多面的・多角的な見方へ | C46: =授業づくり!E45 -> 0
A47: =顕著な教材リスト!A25 -> 0 | B47: 自分自身との関わり | C47: =授業づくり!E46 -> 0
B48: 多面的・多角的な見方へ | C48: =授業づくり!E47 -> 0
A49: =顕著な教材リスト!A26 -> 0 | B49: 自分自身との関わり | C49: =授業づくり!E48 -> 0
B50: 多面的・多角的な見方へ | C50: =授業づくり!E49 -> 0
A51: =顕著な教材リスト!A27 -> 0 | B51: 自分自身との関わり | C51: =授業づくり!E50 -> 0
B52: 多面的・多角的な見方へ | C52: =授業づくり!E51 -> 0
A53: =顕著な教材リスト!A28 -> 0 | B53: 自分自身との関わり | C53: =授業づくり!E52 -> 0
B54: 多面的・多角的な見方へ | C54: =授業づくり!E53 -> 0
A55: =顕著な教材リスト!A29 -> 0 | B55: 自分自身との関わり | C55: =授業づくり!E54 -> 0
B56: 多面的・多角的な見方へ | C56: =授業づくり!E55 -> 0
A57: =顕著な教材リスト!A30 -> 0 | B57: 自分自身との関わり | C57: =授業づくり!E56 -> 0
B58: 多面的・多角的な見方へ | C58: =授業づくり!E57 -> 0
A59: =顕著な教材リスト!A31 -> 0 | B59: 自分自身との関わり | C59: =授業づくり!E58 -> 0
B60: 多面的・多角的な見方へ | C60: =授業づくり!E59 -> 0
A61: =顕著な教材リスト!A32 -> 0 | B61: 自分自身との関わり | C61: =授業づくり!E60 -> 0
B62: 多面的・多角的な見方へ | C62: =授業づくり!E61 -> 0
A63: =顕著な教材リスト!A33 -> 0 | B63: 自分自身との関わり | C63: =授業づくり!E62 -> 0
B64: 多面的・多角的な見方へ | C64: =授業づくり!E63 -> 0
A65: =顕著な教材リスト!A34 -> 0 | B65: 自分自身との関わり | C65: =授業づくり!E64 -> 0
B66: 多面的・多角的な見方へ | C66: =授業づくり!E65 -> 0
A67: =顕著な教材リスト!A35 -> 0 | B67: 自分自身との関わり | C67: =授業づくり!E66 -> 0
B68: 多面的・多角的な見方へ | C68: =授業づくり!E67 -> 0
A69: =顕著な教材リスト!A36 -> 0 | B69: 自分自身との関わり | C69: =授業づくり!E68 -> 0
B70: 多面的・多角的な見方へ | C70: =授業づくり!E69 -> 0
A71: =顕著な教材リスト!A37 -> 0 | B71: 自分自身との関わり | C71: =授業づくり!E70 -> 0
B72: 多面的・多角的な見方へ | C72: =授業づくり!E71 -> 0
A73: =顕著な教材リスト!A38 -> 0 | B73: 自分自身との関わり | C73: =授業づくり!E72 -> 0
B74: 多面的・多角的な見方へ | C74: =授業づくり!E73 -> 0

Sheet 日常評価B
A1: 道徳科 評価業務支援シート（光村図書 ３年）
A2: 日常評価B 教材ごとに、一人一人の児童にどのような学びの姿が見られたか選択する。
C3: 1 | D3: 2 | E3: 3 | F3: 4 | G3: 5 | H3: 6 | I3: 7 | J3: 8 | K3: 9 | L3: 10 | M3: 11 | N3: 12 | O3: 13 | P3: 14 | Q3: 15 | R3: 16 | S3: 17 | T3: 18 | U3: 19 | V3: 20 | W3: 21 | X3: 22 | Y3: 23 | Z3: 24 | AA3: 25 | AB3: 26 | AC3: 27 | AD3: 28 | AE3: 29 | AF3: 30 | AG3: 31 | AH3: 32 | AI3: 33 | AJ3: 34 | AK3: 35 | AL3: 36 | AM3: 37 | AN3: 38 | AO3: 39 | AP3: 40 | AQ3: 41 | AR3: 42 | AS3: 43 | AT3: 44 | AU3: 45
A4: 教材 | B4: 評価の視点 | C4: =名簿管理!B5 -> あい うえお | D4: =名簿管理!B6 -> かき くけこ | E4: =名簿管理!B7 -> さしす せそ | F4: =名簿管理!B8 -> 0 | G4: =名簿管理!B9 -> 0 | H4: =名簿管理!B10 -> 0 | I4: =名簿管理!B11 -> 0 | J4: =名簿管理!B12 -> 0 | K4: =名簿管理!B13 -> 0 | L4: =名簿管理!B14 -> 0 | M4: =名簿管理!B15 -> 0 | N4: =名簿管理!B16 -> 0 | O4: =名簿管理!B17 -> 0 | P4: =名簿管理!B18 -> 0 | Q4: =名簿管理!B19 -> 0 | R4: =名簿管理!B20 -> 0 | S4: =名簿管理!B21 -> 0 | T4: =名簿管理!B22 -> 0 | U4: =名簿管理!B23 -> 0 | V4: =名簿管理!B24 -> 0 | W4: =名簿管理!B25 -> 0 | X4: =名簿管理!B26 -> 0 | Y4: =名簿管理!B27 -> 0 | Z4: =名簿管理!B28 -> 0 | AA4: =名簿管理!B29 -> 0 | AB4: =名簿管理!B30 -> 0 | AC4: =名簿管理!B31 -> 0 | AD4: =名簿管理!B32 -> 0 | AE4: =名簿管理!B33 -> 0 | AF4: =名簿管理!B34 -> 0 | AG4: =名簿管理!B35 -> 0 | AH4: =名簿管理!B36 -> 0 | AI4: =名簿管理!B37 -> 0 | AJ4: =名簿管理!B38 -> 0 | AK4: =名簿管理!B39 -> 0 | AL4: =名簿管理!B40 -> 0 | AM4: =名簿管理!B41 -> 0 | AN4: =名簿管理!B42 -> 0 | AO4: =名簿管理!B43 -> 0 | AP4: =名簿管理!B44 -> 0 | AQ4: =名簿管理!B45 -> 0 | AR4: =名簿管理!B46 -> 0 | AS4: =名簿管理!B47 -> 0 | AT4: =名簿管理!B48 -> 0 | AU4: =名簿管理!B49 -> 0
A5: =顕著な教材リスト!A4 -> 1どうとくが始まるよ | B5: 自分自身との関わり | C5: １自分事 | D5: ３自分だったら | E5: ５経験を振り返り
B6: 多面的・多角的な見方へ | C6: 11考えを比べ | D6: 11考えを比べ | E6: 10グループ交流
A7: =顕著な教材リスト!A5 -> 2あいさつ名人 | B7: 自分自身との関わり
B8: 多面的・多角的な見方へ
A9: =顕著な教材リスト!A6 -> 3きらきらカード | B9: 自分自身との関わり
B10: 多面的・多角的な見方へ
A11: =顕著な教材リスト!A7 -> 4日曜日の公園で | B11: 自分自身との関わり
B12: 多面的・多角的な見方へ
A13: =顕著な教材リスト!A8 -> 5道夫とぼく | B13: 自分自身との関わり
B14: 多面的・多角的な見方へ
A15: =顕著な教材リスト!A9 -> 0 | B15: 自分自身との関わり
B16: 多面的・多角的な見方へ
A17: =顕著な教材リスト!A10 -> 0 | B17: 自分自身との関わり
B18: 多面的・多角的な見方へ
A19: =顕著な教材リスト!A11 -> 0 | B19: 自分自身との関わり
B20: 多面的・多角的な見方へ
A21: =顕著な教材リスト!A12 -> 0 | B21: 自分自身との関わり
B22: 多面的・多角的な見方へ
A23: =顕著な教材リスト!A13 -> 0 | B23: 自分自身との関わり
B24: 多面的・多角的な見方へ
A25: =顕著な教材リスト!A14 -> 0 | B25: 自分自身との関わり
B26: 多面的・多角的な見方へ
A27: =顕著な教材リスト!A15 -> 0 | B27: 自分自身との関わり
B28: 多面的・多角的な見方へ
A29: =顕著な教材リスト!A16 -> 0 | B29: 自分自身との関わり
B30: 多面的・多角的な見方へ
A31: =顕著な教材リスト!A17 -> 0 | B31: 自分自身との関わり
B32: 多面的・多角的な見方へ
A33: =顕著な教材リスト!A18 -> 0 | B33: 自分自身との関わり
B34: 多面的・多角的な見方へ
A35: =顕著な教材リスト!A19 -> 0 | B35: 自分自身との関わり
B36: 多面的・多角的な見方へ
A37: =顕著な教材リスト!A20 -> 0 | B37: 自分自身との関わり
B38: 多面的・多角的な見方へ
A39: =顕著な教材リスト!A21 -> 0 | B39: 自分自身との関わり
B40: 多面的・多角的な見方へ
A41: =顕著な教材リスト!A22 -> 0 | B41: 自分自身との関わり
B42: 多面的・多角的な見方へ
A43: =顕著な教材リスト!A23 -> 0 | B43: 自分自身との関わり
B44: 多面的・多角的な見方へ
A45: =顕著な教材リスト!A24 -> 0 | B45: 自分自身との関わり
B46: 多面的・多角的な見方へ
A47: =顕著な教材リスト!A25 -> 0 | B47: 自分自身との関わり
B48: 多面的・多角的な見方へ
A49: =顕著な教材リスト!A26 -> 0 | B49: 自分自身との関わり
B50: 多面的・多角的な見方へ
A51: =顕著な教材リスト!A27 -> 0 | B51: 自分自身との関わり
B52: 多面的・多角的な見方へ
A53: =顕著な教材リスト!A28 -> 0 | B53: 自分自身との関わり
B54: 多面的・多角的な見方へ
A55: =顕著な教材リスト!A29 -> 0 | B55: 自分自身との関わり
B56: 多面的・多角的な見方へ
A57: =顕著な教材リスト!A30 -> 0 | B57: 自分自身との関わり
B58: 多面的・多角的な見方へ
A59: =顕著な教材リスト!A31 -> 0 | B59: 自分自身との関わり
B60: 多面的・多角的な見方へ
A61: =顕著な教材リスト!A32 -> 0 | B61: 自分自身との関わり
B62: 多面的・多角的な見方へ
A63: =顕著な教材リスト!A33 -> 0 | B63: 自分自身との関わり
B64: 多面的・多角的な見方へ
A65: =顕著な教材リスト!A34 -> 0 | B65: 自分自身との関わり
B66: 多面的・多角的な見方へ
A67: =顕著な教材リスト!A35 -> 0 | B67: 自分自身との関わり
B68: 多面的・多角的な見方へ
A69: =顕著な教材リスト!A36 -> 0 | B69: 自分自身との関わり
B70: 多面的・多角的な見方へ
A71: =顕著な教材リスト!A37 -> 0 | B71: 自分自身との関わり
B72: 多面的・多角的な見方へ
A73: =顕著な教材リスト!A38 -> 0 | B73: 自分自身との関わり
B74: 多面的・多角的な見方へ
A76: 以下、自動計算（触らない）
A77: 年間を通して よく見られた姿 | C77: =C3 -> 1 | D77: =D3 -> 2 | E77: =E3 -> 3 | F77: =F3 -> 4 | G77: =G3 -> 5 | H77: =H3 -> 6 | I77: =I3 -> 7 | J77: =J3 -> 8 | ... AU77: =AU3 -> 45
C78: =C4 -> あい うえお | D78: =D4 -> かき くけこ | E78: =E4 -> さしす せそ | F78: =F4 -> 0 | G78: =G4 -> 0 | H78: =H4 -> 0 | I78: =I4 -> 0 | J78: =J4 -> 0 | ... AU78: =AU4 -> 0
A79: 道徳的価値の理解を自分自身との関わりの中で深めているか | B79: =目ざす姿!B4 -> １自分事 | C79: =IF(COUNTIF(C$5:C$74,$B79)=0,"",COUNTIF(C$5:C$74,$B79)) -> 1 | D79: =IF(COUNTIF(D$5:D$74,$B79)=0,"",COUNTIF(D$5:D$74,$B79)) | E79: =IF(COUNTIF(E$5:E$74,$B79)=0,"",COUNTIF(E$5:E$74,$B79)) | F79: =IF(COUNTIF(F$5:F$74,$B79)=0,"",COUNTIF(F$5:F$74,$B79)) | G79: =IF(COUNTIF(G$5:G$74,$B79)=0,"",COUNTIF(G$5:G$74,$B79)) | H79: =IF(COUNTIF(H$5:H$74,$B79)=0,"",COUNTIF(H$5:H$74,$B79)) | I79: =IF(COUNTIF(I$5:I$74,$B79)=0,"",COUNTIF(I$5:I$74,$B79)) | J79: =IF(COUNTIF(J$5:J$74,$B79)=0,"",COUNTIF(J$5:J$74,$B79)) | ... AU79: =IF(COUNTIF(AU$5:AU$74,$B79)=0,"",COUNTIF(AU$5:AU$74,$B79))
B80: =目ざす姿!B5 -> ２自分なり | C80: =IF(COUNTIF(C$5:C$74,$B80)=0,"",COUNTIF(C$5:C$74,$B80)) | D80: =IF(COUNTIF(D$5:D$74,$B80)=0,"",COUNTIF(D$5:D$74,$B80)) | E80: =IF(COUNTIF(E$5:E$74,$B80)=0,"",COUNTIF(E$5:E$74,$B80)) | F80: =IF(COUNTIF(F$5:F$74,$B80)=0,"",COUNTIF(F$5:F$74,$B80)) | G80: =IF(COUNTIF(G$5:G$74,$B80)=0,"",COUNTIF(G$5:G$74,$B80)) | H80: =IF(COUNTIF(H$5:H$74,$B80)=0,"",COUNTIF(H$5:H$74,$B80)) | I80: =IF(COUNTIF(I$5:I$74,$B80)=0,"",COUNTIF(I$5:I$74,$B80)) | J80: =IF(COUNTIF(J$5:J$74,$B80)=0,"",COUNTIF(J$5:J$74,$B80)) | ... AU80: =IF(COUNTIF(AU$5:AU$74,$B80)=0,"",COUNTIF(AU$5:AU$74,$B80))
B81: =目ざす姿!B6 -> ３自分だったら | C81: =IF(COUNTIF(C$5:C$74,$B81)=0,"",COUNTIF(C$5:C$74,$B81)) | D81: =IF(COUNTIF(D$5:D$74,$B81)=0,"",COUNTIF(D$5:D$74,$B81)) -> 1 | E81: =IF(COUNTIF(E$5:E$74,$B81)=0,"",COUNTIF(E$5:E$74,$B81)) | F81: =IF(COUNTIF(F$5:F$74,$B81)=0,"",COUNTIF(F$5:F$74,$B81)) | G81: =IF(COUNTIF(G$5:G$74,$B81)=0,"",COUNTIF(G$5:G$74,$B81)) | H81: =IF(COUNTIF(H$5:H$74,$B81)=0,"",COUNTIF(H$5:H$74,$B81)) | I81: =IF(COUNTIF(I$5:I$74,$B81)=0,"",COUNTIF(I$5:I$74,$B81)) | J81: =IF(COUNTIF(J$5:J$74,$B81)=0,"",COUNTIF(J$5:J$74,$B81)) | ... AU81: =IF(COUNTIF(AU$5:AU$74,$B81)=0,"",COUNTIF(AU$5:AU$74,$B81))
B82: =目ざす姿!B7 -> ４よりよい生き方 | C82: =IF(COUNTIF(C$5:C$74,$B82)=0,"",COUNTIF(C$5:C$74,$B82)) | D82: =IF(COUNTIF(D$5:D$74,$B82)=0,"",COUNTIF(D$5:D$74,$B82)) | E82: =IF(COUNTIF(E$5:E$74,$B82)=0,"",COUNTIF(E$5:E$74,$B82)) | F82: =IF(COUNTIF(F$5:F$74,$B82)=0,"",COUNTIF(F$5:F$74,$B82)) | G82: =IF(COUNTIF(G$5:G$74,$B82)=0,"",COUNTIF(G$5:G$74,$B82)) | H82: =IF(COUNTIF(H$5:H$74,$B82)=0,"",COUNTIF(H$5:H$74,$B82)) | I82: =IF(COUNTIF(I$5:I$74,$B82)=0,"",COUNTIF(I$5:I$74,$B82)) | J82: =IF(COUNTIF(J$5:J$74,$B82)=0,"",COUNTIF(J$5:J$74,$B82)) | ... AU82: =IF(COUNTIF(AU$5:AU$74,$B82)=0,"",COUNTIF(AU$5:AU$74,$B82))
B83: =目ざす姿!B8 -> ５経験を振り返り | C83: =IF(COUNTIF(C$5:C$74,$B83)=0,"",COUNTIF(C$5:C$74,$B83)) | D83: =IF(COUNTIF(D$5:D$74,$B83)=0,"",COUNTIF(D$5:D$74,$B83)) | E83: =IF(COUNTIF(E$5:E$74,$B83)=0,"",COUNTIF(E$5:E$74,$B83)) -> 1 | F83: =IF(COUNTIF(F$5:F$74,$B83)=0,"",COUNTIF(F$5:F$74,$B83)) | G83: =IF(COUNTIF(G$5:G$74,$B83)=0,"",COUNTIF(G$5:G$74,$B83)) | H83: =IF(COUNTIF(H$5:H$74,$B83)=0,"",COUNTIF(H$5:H$74,$B83)) | I83: =IF(COUNTIF(I$5:I$74,$B83)=0,"",COUNTIF(I$5:I$74,$B83)) | J83: =IF(COUNTIF(J$5:J$74,$B83)=0,"",COUNTIF(J$5:J$74,$B83)) | ... AU83: =IF(COUNTIF(AU$5:AU$74,$B83)=0,"",COUNTIF(AU$5:AU$74,$B83))
B84: =目ざす姿!B9 -> ６自分の弱さ | C84: =IF(COUNTIF(C$5:C$74,$B84)=0,"",COUNTIF(C$5:C$74,$B84)) | D84: =IF(COUNTIF(D$5:D$74,$B84)=0,"",COUNTIF(D$5:D$74,$B84)) | E84: =IF(COUNTIF(E$5:E$74,$B84)=0,"",COUNTIF(E$5:E$74,$B84)) | F84: =IF(COUNTIF(F$5:F$74,$B84)=0,"",COUNTIF(F$5:F$74,$B84)) | G84: =IF(COUNTIF(G$5:G$74,$B84)=0,"",COUNTIF(G$5:G$74,$B84)) | H84: =IF(COUNTIF(H$5:H$74,$B84)=0,"",COUNTIF(H$5:H$74,$B84)) | I84: =IF(COUNTIF(I$5:I$74,$B84)=0,"",COUNTIF(I$5:I$74,$B84)) | J84: =IF(COUNTIF(J$5:J$74,$B84)=0,"",COUNTIF(J$5:J$74,$B84)) | ... AU84: =IF(COUNTIF(AU$5:AU$74,$B84)=0,"",COUNTIF(AU$5:AU$74,$B84))
B85: =目ざす姿!B10 -> 7〇〇 | C85: =IF(COUNTIF(C$5:C$74,$B85)=0,"",COUNTIF(C$5:C$74,$B85)) | D85: =IF(COUNTIF(D$5:D$74,$B85)=0,"",COUNTIF(D$5:D$74,$B85)) | E85: =IF(COUNTIF(E$5:E$74,$B85)=0,"",COUNTIF(E$5:E$74,$B85)) | F85: =IF(COUNTIF(F$5:F$74,$B85)=0,"",COUNTIF(F$5:F$74,$B85)) | G85: =IF(COUNTIF(G$5:G$74,$B85)=0,"",COUNTIF(G$5:G$74,$B85)) | H85: =IF(COUNTIF(H$5:H$74,$B85)=0,"",COUNTIF(H$5:H$74,$B85)) | I85: =IF(COUNTIF(I$5:I$74,$B85)=0,"",COUNTIF(I$5:I$74,$B85)) | J85: =IF(COUNTIF(J$5:J$74,$B85)=0,"",COUNTIF(J$5:J$74,$B85)) | ... AU85: =IF(COUNTIF(AU$5:AU$74,$B85)=0,"",COUNTIF(AU$5:AU$74,$B85))
A86: 一面的な見方から多面的・多角的な見方へと発展させているか | B86: =目ざす姿!B11 -> ８友達と議論 | C86: =IF(COUNTIF(C$5:C$74,$B86)=0,"",COUNTIF(C$5:C$74,$B86)) | D86: =IF(COUNTIF(D$5:D$74,$B86)=0,"",COUNTIF(D$5:D$74,$B86)) | E86: =IF(COUNTIF(E$5:E$74,$B86)=0,"",COUNTIF(E$5:E$74,$B86)) | F86: =IF(COUNTIF(F$5:F$74,$B86)=0,"",COUNTIF(F$5:F$74,$B86)) | G86: =IF(COUNTIF(G$5:G$74,$B86)=0,"",COUNTIF(G$5:G$74,$B86)) | H86: =IF(COUNTIF(H$5:H$74,$B86)=0,"",COUNTIF(H$5:H$74,$B86)) | I86: =IF(COUNTIF(I$5:I$74,$B86)=0,"",COUNTIF(I$5:I$74,$B86)) | J86: =IF(COUNTIF(J$5:J$74,$B86)=0,"",COUNTIF(J$5:J$74,$B86)) | ... AU86: =IF(COUNTIF(AU$5:AU$74,$B86)=0,"",COUNTIF(AU$5:AU$74,$B86))
B87: =目ざす姿!B12 -> ９いろいろな見方 | C87: =IF(COUNTIF(C$5:C$74,$B87)=0,"",COUNTIF(C$5:C$74,$B87)) | D87: =IF(COUNTIF(D$5:D$74,$B87)=0,"",COUNTIF(D$5:D$74,$B87)) | E87: =IF(COUNTIF(E$5:E$74,$B87)=0,"",COUNTIF(E$5:E$74,$B87)) | F87: =IF(COUNTIF(F$5:F$74,$B87)=0,"",COUNTIF(F$5:F$74,$B87)) | G87: =IF(COUNTIF(G$5:G$74,$B87)=0,"",COUNTIF(G$5:G$74,$B87)) | H87: =IF(COUNTIF(H$5:H$74,$B87)=0,"",COUNTIF(H$5:H$74,$B87)) | I87: =IF(COUNTIF(I$5:I$74,$B87)=0,"",COUNTIF(I$5:I$74,$B87)) | J87: =IF(COUNTIF(J$5:J$74,$B87)=0,"",COUNTIF(J$5:J$74,$B87)) | ... AU87: =IF(COUNTIF(AU$5:AU$74,$B87)=0,"",COUNTIF(AU$5:AU$74,$B87))
B88: =目ざす姿!B13 -> 10グループ交流 | C88: =IF(COUNTIF(C$5:C$74,$B88)=0,"",COUNTIF(C$5:C$74,$B88)) | D88: =IF(COUNTIF(D$5:D$74,$B88)=0,"",COUNTIF(D$5:D$74,$B88)) | E88: =IF(COUNTIF(E$5:E$74,$B88)=0,"",COUNTIF(E$5:E$74,$B88)) -> 1 | F88: =IF(COUNTIF(F$5:F$74,$B88)=0,"",COUNTIF(F$5:F$74,$B88)) | G88: =IF(COUNTIF(G$5:G$74,$B88)=0,"",COUNTIF(G$5:G$74,$B88)) | H88: =IF(COUNTIF(H$5:H$74,$B88)=0,"",COUNTIF(H$5:H$74,$B88)) | I88: =IF(COUNTIF(I$5:I$74,$B88)=0,"",COUNTIF(I$5:I$74,$B88)) | J88: =IF(COUNTIF(J$5:J$74,$B88)=0,"",COUNTIF(J$5:J$74,$B88)) | ... AU88: =IF(COUNTIF(AU$5:AU$74,$B88)=0,"",COUNTIF(AU$5:AU$74,$B88))
B89: =目ざす姿!B14 -> 11考えを比べ | C89: =IF(COUNTIF(C$5:C$74,$B89)=0,"",COUNTIF(C$5:C$74,$B89)) -> 1 | D89: =IF(COUNTIF(D$5:D$74,$B89)=0,"",COUNTIF(D$5:D$74,$B89)) -> 1 | E89: =IF(COUNTIF(E$5:E$74,$B89)=0,"",COUNTIF(E$5:E$74,$B89)) | F89: =IF(COUNTIF(F$5:F$74,$B89)=0,"",COUNTIF(F$5:F$74,$B89)) | G89: =IF(COUNTIF(G$5:G$74,$B89)=0,"",COUNTIF(G$5:G$74,$B89)) | H89: =IF(COUNTIF(H$5:H$74,$B89)=0,"",COUNTIF(H$5:H$74,$B89)) | I89: =IF(COUNTIF(I$5:I$74,$B89)=0,"",COUNTIF(I$5:I$74,$B89)) | J89: =IF(COUNTIF(J$5:J$74,$B89)=0,"",COUNTIF(J$5:J$74,$B89)) | ... AU89: =IF(COUNTIF(AU$5:AU$74,$B89)=0,"",COUNTIF(AU$5:AU$74,$B89))
B90: =目ざす姿!B15 -> 12多様な意見を参考に | C90: =IF(COUNTIF(C$5:C$74,$B90)=0,"",COUNTIF(C$5:C$74,$B90)) | D90: =IF(COUNTIF(D$5:D$74,$B90)=0,"",COUNTIF(D$5:D$74,$B90)) | E90: =IF(COUNTIF(E$5:E$74,$B90)=0,"",COUNTIF(E$5:E$74,$B90)) | F90: =IF(COUNTIF(F$5:F$74,$B90)=0,"",COUNTIF(F$5:F$74,$B90)) | G90: =IF(COUNTIF(G$5:G$74,$B90)=0,"",COUNTIF(G$5:G$74,$B90)) | H90: =IF(COUNTIF(H$5:H$74,$B90)=0,"",COUNTIF(H$5:H$74,$B90)) | I90: =IF(COUNTIF(I$5:I$74,$B90)=0,"",COUNTIF(I$5:I$74,$B90)) | J90: =IF(COUNTIF(J$5:J$74,$B90)=0,"",COUNTIF(J$5:J$74,$B90)) | ... AU90: =IF(COUNTIF(AU$5:AU$74,$B90)=0,"",COUNTIF(AU$5:AU$74,$B90))
B91: =目ざす姿!B16 -> 13多様な考えを尊重 | C91: =IF(COUNTIF(C$5:C$74,$B91)=0,"",COUNTIF(C$5:C$74,$B91)) | D91: =IF(COUNTIF(D$5:D$74,$B91)=0,"",COUNTIF(D$5:D$74,$B91)) | E91: =IF(COUNTIF(E$5:E$74,$B91)=0,"",COUNTIF(E$5:E$74,$B91)) | F91: =IF(COUNTIF(F$5:F$74,$B91)=0,"",COUNTIF(F$5:F$74,$B91)) | G91: =IF(COUNTIF(G$5:G$74,$B91)=0,"",COUNTIF(G$5:G$74,$B91)) | H91: =IF(COUNTIF(H$5:H$74,$B91)=0,"",COUNTIF(H$5:H$74,$B91)) | I91: =IF(COUNTIF(I$5:I$74,$B91)=0,"",COUNTIF(I$5:I$74,$B91)) | J91: =IF(COUNTIF(J$5:J$74,$B91)=0,"",COUNTIF(J$5:J$74,$B91)) | ... AU91: =IF(COUNTIF(AU$5:AU$74,$B91)=0,"",COUNTIF(AU$5:AU$74,$B91))
B92: =目ざす姿!B17 -> 14〇〇 | C92: =IF(COUNTIF(C$5:C$74,$B92)=0,"",COUNTIF(C$5:C$74,$B92)) | D92: =IF(COUNTIF(D$5:D$74,$B92)=0,"",COUNTIF(D$5:D$74,$B92)) | E92: =IF(COUNTIF(E$5:E$74,$B92)=0,"",COUNTIF(E$5:E$74,$B92)) | F92: =IF(COUNTIF(F$5:F$74,$B92)=0,"",COUNTIF(F$5:F$74,$B92)) | G92: =IF(COUNTIF(G$5:G$74,$B92)=0,"",COUNTIF(G$5:G$74,$B92)) | H92: =IF(COUNTIF(H$5:H$74,$B92)=0,"",COUNTIF(H$5:H$74,$B92)) | I92: =IF(COUNTIF(I$5:I$74,$B92)=0,"",COUNTIF(I$5:I$74,$B92)) | J92: =IF(COUNTIF(J$5:J$74,$B92)=0,"",COUNTIF(J$5:J$74,$B92)) | ... AU92: =IF(COUNTIF(AU$5:AU$74,$B92)=0,"",COUNTIF(AU$5:AU$74,$B92))

Sheet 期末評価
A1: 道徳科 評価業務支援シート（光村図書 ３年）
A2: 期末評価 | C2: 「日常評価A」シートか「日常評価B」シートを確認しながら、入力しましょう。 | I2: 評価文例を活用して、 授業中での児童の発言やワークシートの記述、実際の学びの姿などを加え、 一人一人のよさがより伝わるように評価文を作成してください。
I3: 自動的に、文例が作成されます → ワードやエクセルにコピペして 編集する | O3: ↓触らない | T3: ↓触らない | X3: ↓触らない | AB3: ↓触らない | AF3: ↓触らない | AJ3: ↓触らない | AN3: ↓触らない | AR3: ↓触らない | AV3: ↓触らない | AZ3: ↓触らない
A4: 出席番号 | B4: 氏名 | C4: 成長した姿を選択 | D4: 顕著な教材を 選択 | E4: 教材でその子が考えていたことを選択 | F4: 結び（文末）を選択 | G4: 出席番号 | H4: 氏名 | I4: 通知表評価文例 （保護者に伝わりやすいように具体例入り） | J4: 字数 | K4: 指導要録評価文例 | L4: 字数 | O4: （前半） | P4: （後半） | Q4: 後半２ | R4: 結び
A5: 1 | B5: =+名簿管理!B5 -> あい うえお | C5: １自分事 | D5: 2あいさつ名人 | E5: 相手の立場や気持ちに応じて真心を込めて挨拶することについて | F5: 深め | G5: =A5 -> 1 | H5: =IF(B5=0,"",B5) -> あい うえお | I5: =IFERROR(O5&P5&Q5&R5,"") -> 教材の登場人物の心の葛藤に共感し、自分事として捉えながら考えていました。特に「あいさつ名人」では、相手の立場や気持ちに応じて真心を込めて挨拶することについて考えを深めていました。 | J5: =IF(LEN(I5)=0,"",LEN(I5)) -> 89 | K5: =IFERROR(VLOOKUP(C5,目ざす姿!$B$4:$F$17,4,FALSE),"") -> どの教材においても常に自分の立場に置き換えて主体的に考えていた。登場人物の心の葛藤に共感し、自分事として捉えながら、考えを深めることができた。 | L5: =IF(LEN(K5)=0,"",LEN(K5)) -> 71 | O5: =IFERROR(VLOOKUP(C5,目ざす姿!$B$4:$C$17,2,FALSE),"") -> 教材の登場人物の心の葛藤に共感し、自分事として捉えながら考えていました。 | P5: =IFERROR(VLOOKUP(D5,顕著な教材リスト!$A$4:$B$38,2,FALSE),"") -> 特に「あいさつ名人」では、 | Q5: =IF(E5="","",E5) -> 相手の立場や気持ちに応じて真心を込めて挨拶することについて | R5: =IFERROR(VLOOKUP(F5,文末リスト!$A$5:$B$15,2,FALSE),"") -> 考えを深めていました。 | T5: 1どうとくが始まるよ | U5: 2あいさつ名人 | V5: 3きらきらカード | W5: 4日曜日の公園で | X5: 5道夫とぼく | Y5: 6よごれた絵 | Z5: 7友だち屋 | AA5: 8教えてあげる？持ってあげる？ | AB5: 9やめられない | AC5: 10マリーゴールド | AD5: 11生きている仲間 | AE5: 12ヤゴきゅう出大作戦 | AF5: 13目の前は青空 | AG5: 14たてわりはんそうじ | AH5: 15大切なものは何ですか | AI5: 16黄金の魚 | AJ5: 17三人の仕事 | AK5: 18きまりのない国 | AL5: 19三年元気組 | AM5: 20言わなきゃ | AN5: 21なおとからのしつもん | AO5: 22モンたんとケロきち | AP5: 23とくジーのおまじない | AQ5: 24ふろしき | AR5: 25まわりを見つめて | AS5: 26マサラップ | AT5: 27親切がいっぱい | AU5: 28「わたしらしさ」をのばすために | AV5: 29学校のぶどう | AW5: 30ボールのきまり | AX5: 31よわむし太郎 | AY5: 32漢字に思いをこめて | AZ5: 33ありがとうの気持ちをこめて | BA5: 34ヌチヌグスージ――命の祭り | BB5: 35スーパーパティシエ物語
A6: 2 | B6: =+名簿管理!B6 -> かき くけこ | C6: ９いろいろな見方 | D6: 2あいさつ名人 | E6: 相手の立場や気持ちに応じて真心を込めて挨拶することについて | F6: 深く考え | G6: =A6 -> 2 | H6: =IF(B6=0,"",B6) -> かき くけこ | I6: =IFERROR(O6&P6&Q6&R6,"") -> さまざまな見方や考え方があることを、具体的な生活場面をイメージしながら考えていました。特に「あいさつ名人」では、相手の立場や気持ちに応じて真心を込めて挨拶することについて深く考えていました。 | J6: =IF(LEN(I6)=0,"",LEN(I6)) -> 95 | K6: =IFERROR(VLOOKUP(C6,目ざす姿!$B$4:$F$17,4,FALSE),"") -> どの教材においても常に自分事として、主体的に考えていた。さまざまな見方や考え方があることを具体的な生活場面をイメージしながら考えを深める姿が見られた。 | L6: =IF(LEN(K6)=0,"",LEN(K6)) -> 75 | O6: =IFERROR(VLOOKUP(C6,目ざす姿!$B$4:$C$17,2,FALSE),"") -> さまざまな見方や考え方があることを、具体的な生活場面をイメージしながら考えていました。 | P6: =IFERROR(VLOOKUP(D6,顕著な教材リスト!$A$4:$B$38,2,FALSE),"") -> 特に「あいさつ名人」では、 | Q6: =IF(E6="","",E6) -> 相手の立場や気持ちに応じて真心を込めて挨拶することについて | R6: =IFERROR(VLOOKUP(F6,文末リスト!$A$5:$B$15,2,FALSE),"") -> 深く考えていました。 | T6: =授業づくり!B4 -> 道徳科で何を学ぶのか、どのように学ぶのかについて | U6: =授業づくり!B6 -> 相手の立場や気持ちに応じて真心を込めて挨拶することについて | V6: =授業づくり!B8 -> よりよいクラスにするためにできることについて | W6: =授業づくり!B10 -> 自分と違う意見が出たときに心がけることについて | X6: =授業づくり!B12 -> 誰に対しても分け隔てなく接するにはどんな気持ちが必要かについて | Y6: =授業づくり!B14 -> 心から謝ることのよさについて | Z6: =授業づくり!B16 -> 友達とはどんな人かについて | AA6: =授業づくり!B18 -> 優しい人とはどんな人なのかについて | AB6: =授業づくり!B20 -> 気持ちのよい生活をするにはどんなことが大切かについて | AC6: =授業づくり!B22 -> みんなと力を合わせて働くことのよさや大切さについて | AD6: =授業づくり!B24 -> 生きている仲間とはどんな仲間なのかについて | AE6: =授業づくり!B26 -> 身近な自然の素晴らしさや不思議さについて | AF6: =授業づくり!B28 -> 友達と助け合うとどんな気持ちになるかについて | AG6: =授業づくり!B30 -> 相手を理解するために大切なことについて | AH6: =授業づくり!B32 -> 生命を大切にするとはどういうことかについて | AI6: =授業づくり!B34 -> 度を越さずに行動するために大切なことについて | AJ6: =授業づくり!B36 -> 働くときにはどんな思いが大切かについて | AK6: =授業づくり!B38 -> きまりは何のためにあるのかについて | AL6: =授業づくり!B40 -> 自分のよさを見つけ、伸ばすためには、どんな気持ちが大切かについて | AM6: =授業づくり!B42 -> 正しいと思うことを行うために大切なことについて | AN6: =授業づくり!B44 -> 公平に接することが大切なわけについて | AO6: =授業づくり!B46 -> 正直でいることのよさについて | AP6: =授業づくり!B48 -> 生活を支えてくれる人にどんな気持ちで接するのがよいかについて | AQ6: =授業づくり!B50 -> 日本に昔から伝わるものに興味や関心をもつことについて | AR6: =授業づくり!B52 -> 生活の中で「美しいな」「きれいだな」と感じるものについて | AS6: =授業づくり!B54 -> 他国の人と仲よくなるために大切なことについて | AT6: =授業づくり!B56 -> 親切にするとどんないいことがあるのかについて | AU6: =授業づくり!B58 -> 自分らしさを伸ばすためにどんなことができるかについて | AV6: =授業づくり!B60 -> よりよい学校にするために、一人一人ができることについて | AW6: =授業づくり!B62 -> きまりを守らなければならないわけについて | AX6: =授業づくり!B64 -> よいと思ったことを行うときに大切な心について | AY6: =授業づくり!B66 -> 自分の家族に伝えたい思いについて | AZ6: =授業づくり!B68 -> 生活を支えてくれている人に、どのような思いを伝えたいかについて | BA6: =授業づくり!B70 -> 命にはどんな不思議があるのか | BB6: =授業づくり!B72 -> 夢をかなえるためには、どんな気持ちが大切かについて
A7: 3 | B7: =+名簿管理!B7 -> さしす せそ | C7: 11考えを比べ | D7: 35スーパーパティシエ物語 | E7: 夢をかなえるためには、どんな気持ちが大切かについて | F7: 耳を傾け | G7: =A7 -> 3 | H7: =IF(B7=0,"",B7) -> さしす せそ | I7: =IFERROR(O7&P7&Q7&R7,"") -> 全体で議論する中で、友達の意見と自分の意見を比べながら多面的・多角的に考えていました。夢をかなえるためには、どんな気持ちが大切かについて友達の声に耳を傾け、考えを広げていました。 | J7: =IF(LEN(I7)=0,"",LEN(I7)) -> 89 | K7: =IFERROR(VLOOKUP(C7,目ざす姿!$B$4:$F$17,4,FALSE),"") -> 友達と積極的に議論し、自分の意見と比べながら友達の意見に耳を傾け、何を大切にして生きていきたいのかについて多面的・多角的に自己の考えを深める様子が見られた。 | L7: =IF(LEN(K7)=0,"",LEN(K7)) -> 78 | O7: =IFERROR(VLOOKUP(C7,目ざす姿!$B$4:$C$17,2,FALSE),"") -> 全体で議論する中で、友達の意見と自分の意見を比べながら多面的・多角的に考えていました。 | P7: =IFERROR(VLOOKUP(D7,顕著な教材リスト!$A$4:$B$38,2,FALSE),"") | Q7: =IF(E7="","",E7) -> 夢をかなえるためには、どんな気持ちが大切かについて | R7: =IFERROR(VLOOKUP(F7,文末リスト!$A$5:$B$15,2,FALSE),"") -> 友達の声に耳を傾け、考えを広げていました。 | T7: =授業づくり!C4 -> みんなで話し合うことで考えが広がったり深まったりすることのよさについて | U7: =授業づくり!C6 -> 真心のこもった挨拶とはどんな挨拶かについて | V7: =授業づくり!C8 -> みんなで協力し合って楽しい学級をつくろうとすることについて | W7: =授業づくり!C10 -> 自分の意見を相手に伝え、相手を理解し異なる意見も大切にしようとすることについて | X7: =授業づくり!C12 -> 誰に対しても公正、公平な態度で接しようとすることのよさについて | Y7: =授業づくり!C14 -> 過ちを犯したときにはごまかさずに素直に反省し、正直に明るい心で過ごそうとすることのよさについて | Z7: =授業づくり!C16 -> 友達と互いに理解し合い、信頼し合い、助け合おうとすることのよさについて | AA7: =授業づくり!C18 -> 相手の状況や気持ちを思いやり、よく考えて判断し、進んで親切にしようとすることのよさについて | AB7: =授業づくり!C20 -> 自分でよく考えて判断し、節度ある生活をしようとすることのよさについて | AC7: =授業づくり!C22 -> 進んでみんなのために働こうとすることのよさについて | AD7: =授業づくり!C24 -> 自分と同様に生命あるもの全てを尊いものとして大切にしようすることについて | AE7: =授業づくり!C26 -> 自然や動植物を大切にしようとすることのよさについて | AF7: =授業づくり!C28 -> 友達と互いに理解し合い、信頼し合い、助け合おうとすることのよさについて | AG7: =授業づくり!C30 -> 異なる意見も大切にしようとすることのよさについて | AH7: =授業づくり!C32 -> 生命の尊さを知り、自他の生命を大切にしようとすることのよさについて | AI7: =授業づくり!C34 -> よく考えて節度のある生活を送ろうとすることのよさについて | AJ7: =授業づくり!C36 -> 進んでみんなのために働こうとすることのよさについて | AK7: =授業づくり!C38 -> 約束や社会のきまりの意義を理解し、それらを守ろうとすることのよさについて | AL7: =授業づくり!C40 -> 自分の特徴に気づき、長所を伸ばそうとすることのよさについて | AM7: =授業づくり!C42 -> 正しいと判断したことは、自信をもって行おうとすることのよさについて | AN7: =授業づくり!C44 -> 誰にでも分け隔てせず、公正、公平に接しようとすることのよさについて | AO7: =授業づくり!C46 -> 過ちを偽ったりごまかしたりせずに素直に改め、明るい心で生活しようとすることのよさについて | AP7: =授業づくり!C48 -> 尊敬と感謝の心で接しようとすることのよさについて | AQ7: =授業づくり!C50 -> 日本古来の文化に親しもうとすることのよさについて | AR7: =授業づくり!C52 -> 自然の美しさや人の心の気高さを感じる心を大切にしようとすることについて | AS7: =授業づくり!C54 -> 他国のものに親しみ、関心をもとうとすることのよさについて | AT7: =授業づくり!C56 -> 相手の気持ちを自分のこととして想像して、相手を思いやり、進んで親切にしようとすることのよさについて | AU7: =授業づくり!C58 -> 自分の特徴に気づき、長所を伸ばそうとすることのよさについて | AV7: =授業づくり!C60 -> 楽しい学校をつくろうとすることのよさについて | AW7: =授業づくり!C62 -> きまりの意義やよさを理解し、守ろうとすることのよさについて | AX7: =授業づくり!C64 -> 正しいと判断したことは自信をもって行い、正しくないことは止めようとすることのよさについて | AY7: =授業づくり!C66 -> 父母、祖父母を敬愛し、家族で協力して楽しい家庭にしようとすることのよさについて | AZ7: =授業づくり!C68 -> 尊敬と感謝の気持ちを表そうとすることのよさについて | BA7: =授業づくり!C70 -> 受け継がれる命の尊さを知り、大切にしようとすることについて | BB7: =授業づくり!C72 -> 目標に向かって、強い意志をもち、粘り強くやり抜こうとすることのよさについて
A8: 4 | B8: =+名簿管理!B8 -> 0 | G8: =A8 -> 4 | H8: =IF(B8=0,"",B8) | I8: =IFERROR(O8&P8&Q8&R8,"") | J8: =IF(LEN(I8)=0,"",LEN(I8)) | K8: =IFERROR(VLOOKUP(C8,目ざす姿!$B$4:$F$17,4,FALSE),"") | L8: =IF(LEN(K8)=0,"",LEN(K8)) | O8: =IFERROR(VLOOKUP(C8,目ざす姿!$B$4:$C$17,2,FALSE),"") | P8: =IFERROR(VLOOKUP(D8,顕著な教材リスト!$A$4:$B$38,2,FALSE),"") | Q8: =IF(E8="","",E8) | R8: =IFERROR(VLOOKUP(F8,文末リスト!$A$5:$B$15,2,FALSE),"")
A9: 5 | B9: =+名簿管理!B9 -> 0 | G9: =A9 -> 5 | H9: =IF(B9=0,"",B9) | I9: =IFERROR(O9&P9&Q9&R9,"") | J9: =IF(LEN(I9)=0,"",LEN(I9)) | K9: =IFERROR(VLOOKUP(C9,目ざす姿!$B$4:$F$17,4,FALSE),"") | L9: =IF(LEN(K9)=0,"",LEN(K9)) | O9: =IFERROR(VLOOKUP(C9,目ざす姿!$B$4:$C$17,2,FALSE),"") | P9: =IFERROR(VLOOKUP(D9,顕著な教材リスト!$A$4:$B$38,2,FALSE),"") | Q9: =IF(E9="","",E9) | R9: =IFERROR(VLOOKUP(F9,文末リスト!$A$5:$B$15,2,FALSE),"")
A10: 6 | B10: =+名簿管理!B10 -> 0 | G10: =A10 -> 6 | H10: =IF(B10=0,"",B10) | I10: =IFERROR(O10&P10&Q10&R10,"") | J10: =IF(LEN(I10)=0,"",LEN(I10)) | K10: =IFERROR(VLOOKUP(C10,目ざす姿!$B$4:$F$17,4,FALSE),"") | L10: =IF(LEN(K10)=0,"",LEN(K10)) | O10: =IFERROR(VLOOKUP(C10,目ざす姿!$B$4:$C$17,2,FALSE),"") | P10: =IFERROR(VLOOKUP(D10,顕著な教材リスト!$A$4:$B$38,2,FALSE),"") | Q10: =IF(E10="","",E10) | R10: =IFERROR(VLOOKUP(F10,文末リスト!$A$5:$B$15,2,FALSE),"")
A11: 7 | B11: =+名簿管理!B11 -> 0 | G11: =A11 -> 7 | H11: =IF(B11=0,"",B11) | I11: =IFERROR(O11&P11&Q11&R11,"") | J11: =IF(LEN(I11)=0,"",LEN(I11)) | K11: =IFERROR(VLOOKUP(C11,目ざす姿!$B$4:$F$17,4,FALSE),"") | L11: =IF(LEN(K11)=0,"",LEN(K11)) | O11: =IFERROR(VLOOKUP(C11,目ざす姿!$B$4:$C$17,2,FALSE),"") | P11: =IFERROR(VLOOKUP(D11,顕著な教材リスト!$A$4:$B$38,2,FALSE),"") | Q11: =IF(E11="","",E11) | R11: =IFERROR(VLOOKUP(F11,文末リスト!$A$5:$B$15,2,FALSE),"")
A12: 8 | B12: =+名簿管理!B12 -> 0 | G12: =A12 -> 8 | H12: =IF(B12=0,"",B12) | I12: =IFERROR(O12&P12&Q12&R12,"") | J12: =IF(LEN(I12)=0,"",LEN(I12)) | K12: =IFERROR(VLOOKUP(C12,目ざす姿!$B$4:$F$17,4,FALSE),"") | L12: =IF(LEN(K12)=0,"",LEN(K12)) | O12: =IFERROR(VLOOKUP(C12,目ざす姿!$B$4:$C$17,2,FALSE),"") | P12: =IFERROR(VLOOKUP(D12,顕著な教材リスト!$A$4:$B$38,2,FALSE),"") | Q12: =IF(E12="","",E12) | R12: =IFERROR(VLOOKUP(F12,文末リスト!$A$5:$B$15,2,FALSE),"")
A13: 9 | B13: =+名簿管理!B13 -> 0 | G13: =A13 -> 9 | H13: =IF(B13=0,"",B13) | I13: =IFERROR(O13&P13&Q13&R13,"") | J13: =IF(LEN(I13)=0,"",LEN(I13)) | K13: =IFERROR(VLOOKUP(C13,目ざす姿!$B$4:$F$17,4,FALSE),"") | L13: =IF(LEN(K13)=0,"",LEN(K13)) | O13: =IFERROR(VLOOKUP(C13,目ざす姿!$B$4:$C$17,2,FALSE),"") | P13: =IFERROR(VLOOKUP(D13,顕著な教材リスト!$A$4:$B$38,2,FALSE),"") | Q13: =IF(E13="","",E13) | R13: =IFERROR(VLOOKUP(F13,文末リスト!$A$5:$B$15,2,FALSE),"")
A14: 10 | B14: =+名簿管理!B14 -> 0 | G14: =A14 -> 10 | H14: =IF(B14=0,"",B14) | I14: =IFERROR(O14&P14&Q14&R14,"") | J14: =IF(LEN(I14)=0,"",LEN(I14)) | K14: =IFERROR(VLOOKUP(C14,目ざす姿!$B$4:$F$17,4,FALSE),"") | L14: =IF(LEN(K14)=0,"",LEN(K14)) | O14: =IFERROR(VLOOKUP(C14,目ざす姿!$B$4:$C$17,2,FALSE),"") | P14: =IFERROR(VLOOKUP(D14,顕著な教材リスト!$A$4:$B$38,2,FALSE),"") | Q14: =IF(E14="","",E14) | R14: =IFERROR(VLOOKUP(F14,文末リスト!$A$5:$B$15,2,FALSE),"")
A15: 11 | B15: =+名簿管理!B15 -> 0 | G15: =A15 -> 11 | H15: =IF(B15=0,"",B15) | I15: =IFERROR(O15&P15&Q15&R15,"") | J15: =IF(LEN(I15)=0,"",LEN(I15)) | K15: =IFERROR(VLOOKUP(C15,目ざす姿!$B$4:$F$17,4,FALSE),"") | L15: =IF(LEN(K15)=0,"",LEN(K15)) | O15: =IFERROR(VLOOKUP(C15,目ざす姿!$B$4:$C$17,2,FALSE),"") | P15: =IFERROR(VLOOKUP(D15,顕著な教材リスト!$A$4:$B$38,2,FALSE),"") | Q15: =IF(E15="","",E15) | R15: =IFERROR(VLOOKUP(F15,文末リスト!$A$5:$B$15,2,FALSE),"")
A16: 12 | B16: =+名簿管理!B16 -> 0 | G16: =A16 -> 12 | H16: =IF(B16=0,"",B16) | I16: =IFERROR(O16&P16&Q16&R16,"") | J16: =IF(LEN(I16)=0,"",LEN(I16)) | K16: =IFERROR(VLOOKUP(C16,目ざす姿!$B$4:$F$17,4,FALSE),"") | L16: =IF(LEN(K16)=0,"",LEN(K16)) | O16: =IFERROR(VLOOKUP(C16,目ざす姿!$B$4:$C$17,2,FALSE),"") | P16: =IFERROR(VLOOKUP(D16,顕著な教材リスト!$A$4:$B$38,2,FALSE),"") | Q16: =IF(E16="","",E16) | R16: =IFERROR(VLOOKUP(F16,文末リスト!$A$5:$B$15,2,FALSE),"")
A17: 13 | B17: =+名簿管理!B17 -> 0 | G17: =A17 -> 13 | H17: =IF(B17=0,"",B17) | I17: =IFERROR(O17&P17&Q17&R17,"") | J17: =IF(LEN(I17)=0,"",LEN(I17)) | K17: =IFERROR(VLOOKUP(C17,目ざす姿!$B$4:$F$17,4,FALSE),"") | L17: =IF(LEN(K17)=0,"",LEN(K17)) | O17: =IFERROR(VLOOKUP(C17,目ざす姿!$B$4:$C$17,2,FALSE),"") | P17: =IFERROR(VLOOKUP(D17,顕著な教材リスト!$A$4:$B$38,2,FALSE),"") | Q17: =IF(E17="","",E17) | R17: =IFERROR(VLOOKUP(F17,文末リスト!$A$5:$B$15,2,FALSE),"")
A18: 14 | B18: =+名簿管理!B18 -> 0 | G18: =A18 -> 14 | H18: =IF(B18=0,"",B18) | I18: =IFERROR(O18&P18&Q18&R18,"") | J18: =IF(LEN(I18)=0,"",LEN(I18)) | K18: =IFERROR(VLOOKUP(C18,目ざす姿!$B$4:$F$17,4,FALSE),"") | L18: =IF(LEN(K18)=0,"",LEN(K18)) | O18: =IFERROR(VLOOKUP(C18,目ざす姿!$B$4:$C$17,2,FALSE),"") | P18: =IFERROR(VLOOKUP(D18,顕著な教材リスト!$A$4:$B$38,2,FALSE),"") | Q18: =IF(E18="","",E18) | R18: =IFERROR(VLOOKUP(F18,文末リスト!$A$5:$B$15,2,FALSE),"")
A19: 15 | B19: =+名簿管理!B19 -> 0 | G19: =A19 -> 15 | H19: =IF(B19=0,"",B19) | I19: =IFERROR(O19&P19&Q19&R19,"") | J19: =IF(LEN(I19)=0,"",LEN(I19)) | K19: =IFERROR(VLOOKUP(C19,目ざす姿!$B$4:$F$17,4,FALSE),"") | L19: =IF(LEN(K19)=0,"",LEN(K19)) | O19: =IFERROR(VLOOKUP(C19,目ざす姿!$B$4:$C$17,2,FALSE),"") | P19: =IFERROR(VLOOKUP(D19,顕著な教材リスト!$A$4:$B$38,2,FALSE),"") | Q19: =IF(E19="","",E19) | R19: =IFERROR(VLOOKUP(F19,文末リスト!$A$5:$B$15,2,FALSE),"")
... A44: 40 | B44: =+名簿管理!B44 -> 0 | G44: =A44 -> 40 | H44: =IF(B44=0,"",B44) | I44: =IFERROR(O44&P44&Q44&R44,"") | J44: =IF(LEN(I44)=0,"",LEN(I44)) | K44: =IFERROR(VLOOKUP(C44,目ざす姿!$B$4:$F$17,4,FALSE),"") | L44: =IF(LEN(K44)=0,"",LEN(K44)) | O44: =IFERROR(VLOOKUP(C44,目ざす姿!$B$4:$C$17,2,FALSE),"") | P44: =IFERROR(VLOOKUP(D44,顕著な教材リスト!$A$4:$B$38,2,FALSE),"") | Q44: =IF(E44="","",E44) | R44: =IFERROR(VLOOKUP(F44,文末リスト!$A$5:$B$15,2,FALSE),"")

Sheet 文末リスト
A1: 道徳科 評価業務支援シート（光村図書 ３年）
A2: 文末の定型文リスト
A3: ここを修正すると、期末評価文例の文末を一度に修正することが可能です。 学年研修で検討をしたり、道徳推進担当や教務主任で検討したりして設定します。
A4: 視点 | B4: 定型文 | C4: 文字数
A5: 広げ | B5: 考えを広げていました。 | C5: =LEN(B5) -> 11
A6: 深め | B6: 考えを深めていました。 | C6: =LEN(B6) -> 11
A7: 深く考え | B7: 深く考えていました。 | C7: =LEN(B7) -> 10
A8: 自分と重ね | B8: 自分と重ねながら考えていました。 | C8: =LEN(B8) -> 16
A9: 耳を傾け | B9: 友達の声に耳を傾け、考えを広げていました。 | C9: =LEN(B9) -> 21
C10: =LEN(B10) -> 0
C11: =LEN(B11) -> 0
C12: =LEN(B12) -> 0
C13: =LEN(B13) -> 0
C14: =LEN(B14) -> 0
C15: =LEN(B15) -> 0

Sheet 顕著な教材リスト
A1: 道徳科 評価業務支援シート（光村図書 ３年）
A2: 教材リスト（「授業づくり」シートと連動し、自動入力）
A3: 教材一覧 | B3: 通知表所見文例（後半） | C3: 文字数 | E3: 触らない
A4: =授業づくり!A4&授業づくり!A5 -> 1どうとくが始まるよ | B4: =K4 -> 特に「どうとくが始まるよ」では、 | C4: =LEN(B4) -> 16 | E4: 特に「 | F4: =授業づくり!A5 -> どうとくが始まるよ | G4: 」では、 | J4: =E4&F4&G4&H4&I4 -> 特に「どうとくが始まるよ」では、 | K4: =SUBSTITUTE(J4,0,,2) -> 特に「どうとくが始まるよ」では、
A5: =授業づくり!A6&授業づくり!A7 -> 2あいさつ名人 | B5: =K5 -> 特に「あいさつ名人」では、 | C5: =LEN(B5) -> 13 | E5: 特に「 | F5: =授業づくり!A7 -> あいさつ名人 | G5: 」では、 | J5: =E5&F5&G5&H5&I5 -> 特に「あいさつ名人」では、 | K5: =SUBSTITUTE(J5,0,,2) -> 特に「あいさつ名人」では、
A6: =授業づくり!A8&授業づくり!A9 -> 3きらきらカード | B6: =K6 -> 特に「きらきらカード」では、 | C6: =LEN(B6) -> 14 | E6: 特に「 | F6: =授業づくり!A9 -> きらきらカード | G6: 」では、 | J6: =E6&F6&G6&H6&I6 -> 特に「きらきらカード」では、 | K6: =SUBSTITUTE(J6,0,,2) -> 特に「きらきらカード」では、
A7: =授業づくり!A10&授業づくり!A11 -> 4日曜日の公園で | B7: =K7 -> 特に「日曜日の公園で」では、 | C7: =LEN(B7) -> 14 | E7: 特に「 | F7: =授業づくり!A11 -> 日曜日の公園で | G7: 」では、 | J7: =E7&F7&G7&H7&I7 -> 特に「日曜日の公園で」では、 | K7: =SUBSTITUTE(J7,0,,2) -> 特に「日曜日の公園で」では、
A8: =授業づくり!A12&授業づくり!A13 -> 5道夫とぼく | B8: =K8 -> 特に「道夫とぼく」では、 | C8: =LEN(B8) -> 12 | E8: 特に「 | F8: =授業づくり!A13 -> 道夫とぼく | G8: 」では、 | J8: =E8&F8&G8&H8&I8 -> 特に「道夫とぼく」では、 | K8: =SUBSTITUTE(J8,0,,2) -> 特に「道夫とぼく」では、
E9: 特に「 | F9: =授業づくり!A15 -> よごれた絵 | G9: 」では、 | J9: =E9&F9&G9&H9&I9 -> 特に「よごれた絵」では、 | K9: =SUBSTITUTE(J9,0,,2) -> 特に「よごれた絵」では、
E10: 特に「 | F10: =授業づくり!A17 -> 友だち屋 | G10: 」では、 | J10: =E10&F10&G10&H10&I10 -> 特に「友だち屋」では、 | K10: =SUBSTITUTE(J10,0,,2) -> 特に「友だち屋」では、
E11: 特に「 | F11: =授業づくり!A19 -> 教えてあげる？ 持ってあげる？ | G11: 」では、 | J11: =E11&F11&G11&H11&I11 -> 特に「教えてあげる？ 持ってあげる？」では、 | K11: =SUBSTITUTE(J11,0,,2) -> 特に「教えてあげる？ 持ってあげる？」では、
E12: 特に「 | F12: =授業づくり!A21 -> やめられない | G12: 」では、 | J12: =E12&F12&G12&H12&I12 -> 特に「やめられない」では、 | K12: =SUBSTITUTE(J12,0,,2) -> 特に「やめられない」では、
E13: 特に「 | F13: =授業づくり!A23 -> マリーゴールド | G13: 」では、 | J13: =E13&F13&G13&H13&I13 -> 特に「マリーゴールド」では、 | K13: =SUBSTITUTE(J13,0,,2) -> 特に「マリーゴールド」では、
E14: 特に「 | F14: =授業づくり!A25 -> 生きている仲間 | G14: 」では、 | J14: =E14&F14&G14&H14&I14 -> 特に「生きている仲間」では、 | K14: =SUBSTITUTE(J14,0,,2) -> 特に「生きている仲間」では、
E15: 特に「 | F15: =授業づくり!A27 -> ヤゴきゅう出大作戦 | G15: 」では、 | J15: =E15&F15&G15&H15&I15 -> 特に「ヤゴきゅう出大作戦」では、 | K15: =SUBSTITUTE(J15,0,,2) -> 特に「ヤゴきゅう出大作戦」では、
E16: 特に「 | F16: =授業づくり!A29 -> 目の前は青空 | G16: 」では、 | J16: =E16&F16&G16&H16&I16 -> 特に「目の前は青空」では、 | K16: =SUBSTITUTE(J16,0,,2) -> 特に「目の前は青空」では、
E17: 特に「 | F17: =授業づくり!A31 -> たてわりはんそうじ | G17: 」では、 | J17: =E17&F17&G17&H17&I17 -> 特に「たてわりはんそうじ」では、 | K17: =SUBSTITUTE(J17,0,,2) -> 特に「たてわりはんそうじ」では、
E18: 特に「 | F18: =授業づくり!A33 -> 大切なものは何ですか | G18: 」では、 | J18: =E18&F18&G18&H18&I18 -> 特に「大切なものは何ですか」では、 | K18: =SUBSTITUTE(J18,0,,2) -> 特に「大切なものは何ですか」では、
E19: 特に「 | F19: =授業づくり!A35 -> 黄金の魚 | G19: 」では、 | J19: =E19&F19&G19&H19&I19 -> 特に「黄金の魚」では、 | K19: =SUBSTITUTE(J19,0,,2) -> 特に「黄金の魚」では、
E20: 特に「 | F20: =授業づくり!A37 -> 三人の仕事 | G20: 」では、 | J20: =E20&F20&G20&H20&I20 -> 特に「三人の仕事」では、 | K20: =SUBSTITUTE(J20,0,,2) -> 特に「三人の仕事」では、
E21: 特に「 | F21: =授業づくり!A39 -> きまりのない国 | G21: 」では、 | J21: =E21&F21&G21&H21&I21 -> 特に「きまりのない国」では、 | K21: =SUBSTITUTE(J21,0,,2) -> 特に「きまりのない国」では、
E22: 特に「 | F22: =授業づくり!A41 -> 三年元気組 | G22: 」では、 | J22: =E22&F22&G22&H22&I22 -> 特に「三年元気組」では、 | K22: =SUBSTITUTE(J22,0,,2) -> 特に「三年元気組」では、
E23: 特に「 | F23: =授業づくり!A43 -> 言わなきゃ | G23: 」では、 | J23: =E23&F23&G23&H23&I23 -> 特に「言わなきゃ」では、 | K23: =SUBSTITUTE(J23,0,,2) -> 特に「言わなきゃ」では、
E24: 特に「 | F24: =授業づくり!A45 -> なおとからのしつもん | G24: 」では、 | J24: =E24&F24&G24&H24&I24 -> 特に「なおとからのしつもん」では、 | K24: =SUBSTITUTE(J24,0,,2) -> 特に「なおとからのしつもん」では、
E25: 特に「 | F25: =授業づくり!A47 -> モンたんとケロきち | G25: 」では、 | J25: =E25&F25&G25&H25&I25 -> 特に「モンたんとケロきち」では、 | K25: =SUBSTITUTE(J25,0,,2) -> 特に「モンたんとケロきち」では、
E26: 特に「 | F26: =授業づくり!A49 -> とくジーのおまじない | G26: 」では、 | J26: =E26&F26&G26&H26&I26 -> 特に「とくジーのおまじない」では、 | K26: =SUBSTITUTE(J26,0,,2) -> 特に「とくジーのおまじない」では、
E27: 特に「 | F27: =授業づくり!A51 -> ふろしき | G27: 」では、 | J27: =E27&F27&G27&H27&I27 -> 特に「ふろしき」では、 | K27: =SUBSTITUTE(J27,0,,2) -> 特に「ふろしき」では、
E28: 特に「 | F28: =授業づくり!A53 -> まわりを見つめて | G28: 」では、 | J28: =E28&F28&G28&H28&I28 -> 特に「まわりを見つめて」では、 | K28: =SUBSTITUTE(J28,0,,2) -> 特に「まわりを見つめて」では、
E29: 特に「 | F29: =授業づくり!A55 -> マサラップ | G29: 」では、 | J29: =E29&F29&G29&H29&I29 -> 特に「マサラップ」では、 | K29: =SUBSTITUTE(J29,0,,2) -> 特に「マサラップ」では、
E30: 特に「 | F30: =授業づくり!A57 -> 親切がいっぱい | G30: 」では、 | J30: =E30&F30&G30&H30&I30 -> 特に「親切がいっぱい」では、 | K30: =SUBSTITUTE(J30,0,,2) -> 特に「親切がいっぱい」では、
E31: 特に「 | F31: =授業づくり!A59 -> 「わたしらしさ」をのばすために | G31: 」では、 | J31: =E31&F31&G31&H31&I31 -> 特に「「わたしらしさ」をのばすために」では、 | K31: =SUBSTITUTE(J31,0,,2) -> 特に「「わたしらしさ」をのばすために」では、
E32: 特に「 | F32: =授業づくり!A61 -> 学校のぶどう | G32: 」では、 | J32: =E32&F32&G32&H32&I32 -> 特に「学校のぶどう」では、 | K32: =SUBSTITUTE(J32,0,,2) -> 特に「学校のぶどう」では、
E33: 特に「 | F33: =授業づくり!A63 -> ボールのきまり | G33: 」では、 | J33: =E33&F33&G33&H33&I33 -> 特に「ボールのきまり」では、 | K33: =SUBSTITUTE(J33,0,,2) -> 特に「ボールのきまり」では、
E34: 特に「 | F34: =授業づくり!A65 -> よわむし太郎 | G34: 」では、 | J34: =E34&F34&G34&H34&I34 -> 特に「よわむし太郎」では、 | K34: =SUBSTITUTE(J34,0,,2) -> 特に「よわむし太郎」では、
E35: 特に「 | F35: =授業づくり!A67 -> 漢字に思いをこめて | G35: 」では、 | J35: =E35&F35&G35&H35&I35 -> 特に「漢字に思いをこめて」では、 | K35: =SUBSTITUTE(J35,0,,2) -> 特に「漢字に思いをこめて」では、
E36: 特に「 | F36: =授業づくり!A69 -> ありがとうの気持ちをこめて | G36: 」では、 | J36: =E36&F36&G36&H36&I36 -> 特に「ありがとうの気持ちをこめて」では、 | K36: =SUBSTITUTE(J36,0,,2) -> 特に「ありがとうの気持ちをこめて」では、
E37: 特に「 | F37: =授業づくり!A71 -> ヌチヌグスージ――命の祭り | G37: 」では、 | J37: =E37&F37&G37&H37&I37 -> 特に「ヌチヌグスージ――命の祭り」では、 | K37: =SUBSTITUTE(J37,0,,2) -> 特に「ヌチヌグスージ――命の祭り」では、
E38: 特に「 | F38: =授業づくり!A73 -> スーパーパティシエ物語 | G38: 」では、 | J38: =E38&F38&G38&H38&I38 -> 特に「スーパーパティシエ物語」では、 | K38: =SUBSTITUTE(J38,0,,2) -> 特に「スーパーパティシエ物語」では、
